BEGIN:VCALENDAR
VERSION:2.0
PRODID:-//ar.hs-interiors-furnitureshowjeddah.bitkit.dk//NONSGML INDEX//EN
METHOD:REQUEST
BEGIN:VEVENT
UID:20260421T165928-2129148205-calendar_event
DTSTAMP:20260421T165928Z
DTSTART:20250218T200000
DTEND:20250220T180000
LOCATION:Jeddah Superdome
SUMMARY:INDEX
DESCRIPTION:Save the date! 18 - 20 February 2025 Interiors & Furniture Show Jeddah is the ideal platform for global manufacturers to meet with giga-project owners from across the country, including interior designers, architects, fit-out contractors, hotel & restaurant owners, property developers, retailers, distributors, and other key players in the industry.
BEGIN:VALARM
TRIGGER:PT1W
ACTION:DISPLAY
DESCRIPTION:Reminder
END:VALARM
END:VEVENT
END:VCALENDAR
